BEGIN:VCALENDAR
VERSION:2.0
PRODID:-//ReproNet - ECPv6.6.4.2//NONSGML v1.0//EN
CALSCALE:GREGORIAN
METHOD:PUBLISH
X-WR-CALNAME:ReproNet
X-ORIGINAL-URL:https://repronet.org
X-WR-CALDESC:Events for ReproNet
REFRESH-INTERVAL;VALUE=DURATION:PT1H
X-Robots-Tag:noindex
X-PUBLISHED-TTL:PT1H
BEGIN:VTIMEZONE
TZID:UTC
BEGIN:STANDARD
TZOFFSETFROM:+0000
TZOFFSETTO:+0000
TZNAME:UTC
DTSTART:20230101T000000
END:STANDARD
END:VTIMEZONE
BEGIN:VEVENT
DTSTART;TZID=UTC:20230920T100000
DTEND;TZID=UTC:20230920T120000
DTSTAMP:20260421T135441
CREATED:20230825T034053Z
LAST-MODIFIED:20230825T034053Z
UID:3101-1695204000-1695211200@repronet.org
SUMMARY:Family Planning and Contraceptive Methods
DESCRIPTION:Register here: https://forms.gle/qfhJ4xnN1CeqYd4DA
URL:https://repronet.org/event/family-planning-and-contraceptive-methods/
LOCATION:Arcade Library\, 2443 Marconi Ave\, Sacramento\, CA\, 95821\, United States
ATTACH;FMTTYPE=image/jpeg:https://repronet.org/wp-content/uploads/2023/08/RHLT-flyer-Eng.jpg
END:VEVENT
END:VCALENDAR