BEGIN:VCALENDAR
VERSION:2.0
PRODID:-//ReproNet - ECPv6.6.4.2//NONSGML v1.0//EN
CALSCALE:GREGORIAN
METHOD:PUBLISH
X-WR-CALNAME:ReproNet
X-ORIGINAL-URL:https://repronet.org
X-WR-CALDESC:Events for ReproNet
REFRESH-INTERVAL;VALUE=DURATION:PT1H
X-Robots-Tag:noindex
X-PUBLISHED-TTL:PT1H
BEGIN:VTIMEZONE
TZID:UTC
BEGIN:STANDARD
TZOFFSETFROM:+0000
TZOFFSETTO:+0000
TZNAME:UTC
DTSTART:20230101T000000
END:STANDARD
END:VTIMEZONE
BEGIN:VEVENT
DTSTART;TZID=UTC:20230927T100000
DTEND;TZID=UTC:20230927T120000
DTSTAMP:20260421T123118
CREATED:20230825T034154Z
LAST-MODIFIED:20230825T034154Z
UID:3103-1695808800-1695816000@repronet.org
SUMMARY:Maternal Health and Postpartum Care
DESCRIPTION:Register here: https://forms.gle/qfhJ4xnN1CeqYd4DA
URL:https://repronet.org/event/maternal-health-and-postpartum-care/
LOCATION:Arcade Library\, 2443 Marconi Ave\, Sacramento\, CA\, 95821\, United States
ATTACH;FMTTYPE=image/jpeg:https://repronet.org/wp-content/uploads/2023/08/RHLT-flyer-Eng.jpg
END:VEVENT
END:VCALENDAR