BEGIN:VCALENDAR
VERSION:2.0
PRODID:-//ReproNet - ECPv6.6.4.2//NONSGML v1.0//EN
CALSCALE:GREGORIAN
METHOD:PUBLISH
X-WR-CALNAME:ReproNet
X-ORIGINAL-URL:https://repronet.org
X-WR-CALDESC:Events for ReproNet
REFRESH-INTERVAL;VALUE=DURATION:PT1H
X-Robots-Tag:noindex
X-PUBLISHED-TTL:PT1H
BEGIN:VTIMEZONE
TZID:UTC
BEGIN:STANDARD
TZOFFSETFROM:+0000
TZOFFSETTO:+0000
TZNAME:UTC
DTSTART:20230101T000000
END:STANDARD
END:VTIMEZONE
BEGIN:VEVENT
DTSTART;TZID=UTC:20230825T080000
DTEND;TZID=UTC:20230825T170000
DTSTAMP:20260421T163638
CREATED:20230825T172644Z
LAST-MODIFIED:20230825T172644Z
UID:3163-1692950400-1692982800@repronet.org
SUMMARY:Save the Date! UCSF Refugee Health Symposium
DESCRIPTION:The Refugee and Asylum Seeker Initiative (RAHI) at UCSF is pleased to invite you to its fifth annual UCSF/ZSFG Refugee Health Symposium: Refugee Migration Through the Generations. \n  \nPlease save the date: This virtual symposium will be held on Friday\, September 22\, 2023 from 12:00 PM – 3:00 PM PST. Registration link\, speaker list and full agenda will be sent out in the coming weeks. \nThe UCSF/ZSFG Refugee Health Symposium brings together refugee health experts across disciplines in an annual opportunity to discuss current issues and ongoing research in refugee health. Each year\, the Symposium focuses on major current themes in forced displacement. This year\, the symposium will be virtual and will showcase the health impacts of forced migration across the generations\, with speakers from different waves of refugee migration over the past several decades. \n  \nTo continue to receive updates about this event and RAHI newsletters\, join our listserv by mailing a request to RAHI@ucsf.edu. \nPlease forward widely to your networks. Looking forward to your participation on September 22nd!
URL:https://repronet.org/event/save-the-date-ucsf-refugee-health-symposium/
ATTACH;FMTTYPE=image/png:https://repronet.org/wp-content/uploads/2023/08/RHS-2023-STD.png
END:VEVENT
END:VCALENDAR